BEGIN:VCALENDAR
VERSION:2.0
PRODID:-//Jaguar Club of Greece - ECPv6.15.20//NONSGML v1.0//EN
CALSCALE:GREGORIAN
METHOD:PUBLISH
X-ORIGINAL-URL:https://jaguarclub.gr/?lang=it
X-WR-CALDESC:Eventi per Jaguar Club of Greece
REFRESH-INTERVAL;VALUE=DURATION:PT1H
X-Robots-Tag:noindex
X-PUBLISHED-TTL:PT1H
BEGIN:VTIMEZONE
TZID:Europe/Athens
BEGIN:DAYLIGHT
TZOFFSETFROM:+0200
TZOFFSETTO:+0300
TZNAME:EEST
DTSTART:20210328T010000
END:DAYLIGHT
BEGIN:STANDARD
TZOFFSETFROM:+0300
TZOFFSETTO:+0200
TZNAME:EET
DTSTART:20211031T010000
END:STANDARD
BEGIN:DAYLIGHT
TZOFFSETFROM:+0200
TZOFFSETTO:+0300
TZNAME:EEST
DTSTART:20220327T010000
END:DAYLIGHT
BEGIN:STANDARD
TZOFFSETFROM:+0300
TZOFFSETTO:+0200
TZNAME:EET
DTSTART:20221030T010000
END:STANDARD
BEGIN:DAYLIGHT
TZOFFSETFROM:+0200
TZOFFSETTO:+0300
TZNAME:EEST
DTSTART:20230326T010000
END:DAYLIGHT
BEGIN:STANDARD
TZOFFSETFROM:+0300
TZOFFSETTO:+0200
TZNAME:EET
DTSTART:20231029T010000
END:STANDARD
END:VTIMEZONE
BEGIN:VEVENT
DTSTART;VALUE=DATE:20220930
DTEND;VALUE=DATE:20221004
DTSTAMP:20260421T205600
CREATED:20220406T071224Z
LAST-MODIFIED:20220829T084834Z
UID:9469-1664496000-1664841599@jaguarclub.gr
SUMMARY:Kalavrita Discovery
DESCRIPTION:30/9 -2(3)/10/2022 \nProbabilmente non avete mai visitato  Kalavrita perché non è nelle mete del turismo di massa ma\, per i Greci è una delle località  più famose del Peloponneso. Per questo ci siamo assicurati il migliore Hotel e i posti    per le nostre auto storiche in garage. \n  \nSabato visiteremo l’impressionante Monastero di Mega Spileo e pranzeremo in una sala privata del Grand Chalet. \n    \n \nDomenica lasceremo le nostre Jaguar al sicuro in Garage per poter godere di un nostalgico viaggio nel tempo a bordo dell’Odondotó: un treno vintage che ci porterà attraverso un meraviglioso paesaggio fino a Zachlorou. Lì andremo in una tipica taverna per un pranzo di specialità locali e ritorneremo sempre in treno a Kalavrita. \n    \nPer chi volesse arrivare da Venerdì 30 Settembre e godere di maggiore relax e delle bellezze locali\, c’è la possibilità di visitare il Monastero di Agia Lavras. Basta soltanto che informiate il nostro Club.      
URL:https://jaguarclub.gr/event/kalavrita-discovery/?lang=it
ORGANIZER;CN="Jaguar Club of Greece":MAILTO:jaguar.club.of.greece@gmail.com
END:VEVENT
END:VCALENDAR