BEGIN:VCALENDAR
VERSION:2.0
PRODID:-//Jaguar Club of Greece - ECPv6.15.20//NONSGML v1.0//EN
CALSCALE:GREGORIAN
METHOD:PUBLISH
X-ORIGINAL-URL:https://jaguarclub.gr/?lang=en
X-WR-CALDESC:Events for Jaguar Club of Greece
REFRESH-INTERVAL;VALUE=DURATION:PT1H
X-Robots-Tag:noindex
X-PUBLISHED-TTL:PT1H
BEGIN:VTIMEZONE
TZID:Europe/Athens
BEGIN:DAYLIGHT
TZOFFSETFROM:+0200
TZOFFSETTO:+0300
TZNAME:EEST
DTSTART:20190331T010000
END:DAYLIGHT
BEGIN:STANDARD
TZOFFSETFROM:+0300
TZOFFSETTO:+0200
TZNAME:EET
DTSTART:20191027T010000
END:STANDARD
BEGIN:DAYLIGHT
TZOFFSETFROM:+0200
TZOFFSETTO:+0300
TZNAME:EEST
DTSTART:20200329T010000
END:DAYLIGHT
BEGIN:STANDARD
TZOFFSETFROM:+0300
TZOFFSETTO:+0200
TZNAME:EET
DTSTART:20201025T010000
END:STANDARD
BEGIN:DAYLIGHT
TZOFFSETFROM:+0200
TZOFFSETTO:+0300
TZNAME:EEST
DTSTART:20210328T010000
END:DAYLIGHT
BEGIN:STANDARD
TZOFFSETFROM:+0300
TZOFFSETTO:+0200
TZNAME:EET
DTSTART:20211031T010000
END:STANDARD
END:VTIMEZONE
BEGIN:VEVENT
DTSTART;VALUE=DATE:20200320
DTEND;VALUE=DATE:20200322
DTSTAMP:20260422T054333
CREATED:20191031T133248Z
LAST-MODIFIED:20200106T112856Z
UID:4687-1584662400-1584835199@jaguarclub.gr
SUMMARY:Delphi
DESCRIPTION:Zemeno \nOn Saturday 20/6/2020 We will meet at 10:20 am at the McDonald’s entrance at the “BP” area on the Athens – Lamia highway 4km after the Afidnes Toll Station. There we will give you the road book and more information. \nStart at 11:00 am heading to Zemeno. Zemeno is a small lush village in Boeotia\, at an altitude of 800 meters\, built on the side of the road that connects Livadia with Arachova.\nWe will have lunch at the traditional Zemenos tavern. \n  \n  \n  \nAt 3:30 pm we will reach Amalia Delphi Hotel and relax until 6pm when we will go to visit Galaxidi. We will enjoy the sunset of the longest day of the year\, followed by a rich buffet dinner in the panoramic restaurant of Amalia Hotel. \nGalaxidi \nAMALIA HOTEL DELFI \n  \n  \n  \n  \n  \n  \n  \n  \nDelphi \n  \nOn Sunday 21/6/2020 after breakfast those who want to see the Delphi Museum have time until 11:30 \n  \n  \n  \nAt 12:00 we will head for Arvanitsa and have lunch at Arvanitsa Chalet Restaurant overlooking the lush forest of Helicon. Then we will return to Athens. \nArvanitsa \n  \n  \n  \n  \n  \n  \n  \n  \nThere may be some changes to the program. Keep track of this page where there will always be the most up-to-date version of the program.\nPlease contact the Club for further information and participation costs. \n 
URL:https://jaguarclub.gr/event/delphi/?lang=en
LOCATION:Delphi\, Δελφοί\, Ελλάδα
ORGANIZER;CN="Jaguar Club of Greece":MAILTO:jaguar.club.of.greece@gmail.com
END:VEVENT
END:VCALENDAR