BEGIN:VCALENDAR
VERSION:2.0
PRODID:-//Jaguar Club of Greece - ECPv6.15.20//NONSGML v1.0//EN
CALSCALE:GREGORIAN
METHOD:PUBLISH
X-WR-CALNAME:Jaguar Club of Greece
X-ORIGINAL-URL:https://jaguarclub.gr
X-WR-CALDESC:Events for Jaguar Club of Greece
REFRESH-INTERVAL;VALUE=DURATION:PT1H
X-Robots-Tag:noindex
X-PUBLISHED-TTL:PT1H
BEGIN:VTIMEZONE
TZID:Europe/Athens
BEGIN:DAYLIGHT
TZOFFSETFROM:+0200
TZOFFSETTO:+0300
TZNAME:EEST
DTSTART:20190331T010000
END:DAYLIGHT
BEGIN:STANDARD
TZOFFSETFROM:+0300
TZOFFSETTO:+0200
TZNAME:EET
DTSTART:20191027T010000
END:STANDARD
BEGIN:DAYLIGHT
TZOFFSETFROM:+0200
TZOFFSETTO:+0300
TZNAME:EEST
DTSTART:20200329T010000
END:DAYLIGHT
BEGIN:STANDARD
TZOFFSETFROM:+0300
TZOFFSETTO:+0200
TZNAME:EET
DTSTART:20201025T010000
END:STANDARD
BEGIN:DAYLIGHT
TZOFFSETFROM:+0200
TZOFFSETTO:+0300
TZNAME:EEST
DTSTART:20210328T010000
END:DAYLIGHT
BEGIN:STANDARD
TZOFFSETFROM:+0300
TZOFFSETTO:+0200
TZNAME:EET
DTSTART:20211031T010000
END:STANDARD
END:VTIMEZONE
BEGIN:VEVENT
DTSTART;VALUE=DATE:20201003
DTEND;VALUE=DATE:20201005
DTSTAMP:20260423T121551
CREATED:20191031T133636Z
LAST-MODIFIED:20200918T140602Z
UID:2965-1601683200-1601855999@jaguarclub.gr
SUMMARY:Apollon Tour
DESCRIPTION:Το πρώτο Σαββατοκύριακο του Οκτωβρίου καλούμε όλους τους ιδιοκτήτες Jaguar και Daimler στην φθινοπωρινή μας εξόρμηση στα δάση της Πελοποννήσου με κύριο προορισμό το μνημείο του Επικούρειου Απόλλωνα . \nΣάββατο 3 Οκτωβρίου. \nΘα ξεκινήσουμε με κατεύθυνση Αρτεμίσιο. Στην Βάστα Αρκαδίας θα επισκεφτούμε τον απίστευτο Ναό της Αγίας Θεοδώρας\, που είναι και στο Guinness Record Book και δίπλα θα απολαύσουμε ένα country lunch κάτω από της βελανιδιές μιας πολύ περιποιημένη Ταβέρνα. \n   \nΤο απόγευμα θα φτάσουμε στο ξενοδοχείο και θα ξεκουραστούμε στις υπέροχες πέτρινες σουίτες του. To βράδυ\, ειδικά για εμάς\, θα έρθει ένας chef να μας μαγειρέψει τοπικά εδέσματα. \n  \n  \nΚυριακή 4 Οκτωβρίου\nΜετά το πρωινό θα επισκεφθούμε το μνημείο του Επικούρειου Απόλλωνα του 5ο π.Χ. αιώνα. \n  \nΘα συνεχίσουμε τη διαδρομή μας και θα γευματίσουμε σε ένα καταπληκτικό Αγρόκτημα με φάρμα\, άγια ζωάκια και πολύ νόστιμη ταβέρνα διακοσμημένη σαν λαογραφικό μουσείο πριν πάρουμε το δρόμο της επιστροφής. \n   \nΜπορεί να υπάρξουν μερικές αλλαγές στο πρόγραμμα  λόγω Covid. Παρακαλώ παρακολουθείτε την σελίδα αυτή όπου θα υπάρχει πάντα η πλέον ενημερωμένη έκδοση του προγράμματος \nΓια επί πλέον πληροφορίες και κόστη συμμετοχής (μόνο με αυτοκίνητο Jaguar ή Daimler) μπορείτε να λάβετε το πρόγραμμα και την αίτηση συμμετοχής συμπληρώνοντας τα κάτωθεν ζητούμενα στοιχεία ή/και επικοινωνήστε με το Club. \n				\n						\n				Name * 				Email * 												 GDPR consent to save email 								\n				\n				\n					\n				\n				\n				\n				\n				\n				\n				\n				\n			\n		\n	 \nΓια να λάβετε μέρος πατήστε ΕΔΩ
URL:https://jaguarclub.gr/event/apollon/
END:VEVENT
END:VCALENDAR