BEGIN:VCALENDAR
VERSION:2.0
PRODID:-//Jaguar Club of Greece - ECPv6.15.20//NONSGML v1.0//EN
CALSCALE:GREGORIAN
METHOD:PUBLISH
X-ORIGINAL-URL:https://jaguarclub.gr
X-WR-CALDESC:Events for Jaguar Club of Greece
REFRESH-INTERVAL;VALUE=DURATION:PT1H
X-Robots-Tag:noindex
X-PUBLISHED-TTL:PT1H
BEGIN:VTIMEZONE
TZID:Europe/Athens
BEGIN:DAYLIGHT
TZOFFSETFROM:+0200
TZOFFSETTO:+0300
TZNAME:EEST
DTSTART:20220327T010000
END:DAYLIGHT
BEGIN:STANDARD
TZOFFSETFROM:+0300
TZOFFSETTO:+0200
TZNAME:EET
DTSTART:20221030T010000
END:STANDARD
BEGIN:DAYLIGHT
TZOFFSETFROM:+0200
TZOFFSETTO:+0300
TZNAME:EEST
DTSTART:20230326T010000
END:DAYLIGHT
BEGIN:STANDARD
TZOFFSETFROM:+0300
TZOFFSETTO:+0200
TZNAME:EET
DTSTART:20231029T010000
END:STANDARD
BEGIN:DAYLIGHT
TZOFFSETFROM:+0200
TZOFFSETTO:+0300
TZNAME:EEST
DTSTART:20240331T010000
END:DAYLIGHT
BEGIN:STANDARD
TZOFFSETFROM:+0300
TZOFFSETTO:+0200
TZNAME:EET
DTSTART:20241027T010000
END:STANDARD
END:VTIMEZONE
BEGIN:VEVENT
DTSTART;VALUE=DATE:20230525
DTEND;VALUE=DATE:20230529
DTSTAMP:20260421T111812
CREATED:20210530T220254Z
LAST-MODIFIED:20230412T162437Z
UID:8164-1684972800-1685318399@jaguarclub.gr
SUMMARY:Andros Grand Tour
DESCRIPTION:Από την Πέμπτη 25 Μαΐου μέχρι την Κυριακή 28 Μαΐου θα έχουμε την ευκαιρία να συναντηθούμε ξανά για να χαρούμε το καταπληκτικό Ελληνικό καλοκαίρι μαζί με την παρέα μας και τα αυτοκίνητά μας. Η μεγάλη ανοιξιάτικη περιήγησή μας θα γίνει στο νησί της Άνδρου στο 5* Boutique Hotel στην καρδιά της Χώρας Άνδρου \n       \nΕπιβεβαιώστε άμεσα την συμμετοχή σας σε αυτή την ιδιαίτερη “mini-honeymoon” στο καλλίτερο ξενοδοχείο της Άνδρου με αποκλειστική χρήση του parking του για το αγαπημένο αυτοκίνητό σας.   \nΜπορεί να υπάρξουν μερικές αλλαγές στο πρόγραμμα. Παρακολουθείτε την σελίδα αυτή όπου θα υπάρχει πάντα η πλέον ενημερωμένη έκδοση του προγράμματος. Για επί πλέον πληροφορίες και κόστη συμμετοχής παρακαλώ επικοινωνήστε με το Club.
URL:https://jaguarclub.gr/event/summer-tour/
ORGANIZER;CN="Jaguar Club of Greece":MAILTO:jaguar.club.of.greece@gmail.com
END:VEVENT
END:VCALENDAR