BEGIN:VCALENDAR
VERSION:2.0
PRODID:-//Jaguar Club of Greece - ECPv6.15.20//NONSGML v1.0//EN
CALSCALE:GREGORIAN
METHOD:PUBLISH
X-ORIGINAL-URL:https://jaguarclub.gr
X-WR-CALDESC:Events for Jaguar Club of Greece
REFRESH-INTERVAL;VALUE=DURATION:PT1H
X-Robots-Tag:noindex
X-PUBLISHED-TTL:PT1H
BEGIN:VTIMEZONE
TZID:Europe/Athens
BEGIN:DAYLIGHT
TZOFFSETFROM:+0200
TZOFFSETTO:+0300
TZNAME:EEST
DTSTART:20240331T010000
END:DAYLIGHT
BEGIN:STANDARD
TZOFFSETFROM:+0300
TZOFFSETTO:+0200
TZNAME:EET
DTSTART:20241027T010000
END:STANDARD
BEGIN:DAYLIGHT
TZOFFSETFROM:+0200
TZOFFSETTO:+0300
TZNAME:EEST
DTSTART:20250330T010000
END:DAYLIGHT
BEGIN:STANDARD
TZOFFSETFROM:+0300
TZOFFSETTO:+0200
TZNAME:EET
DTSTART:20251026T010000
END:STANDARD
BEGIN:DAYLIGHT
TZOFFSETFROM:+0200
TZOFFSETTO:+0300
TZNAME:EEST
DTSTART:20260329T010000
END:DAYLIGHT
BEGIN:STANDARD
TZOFFSETFROM:+0300
TZOFFSETTO:+0200
TZNAME:EET
DTSTART:20261025T010000
END:STANDARD
END:VTIMEZONE
BEGIN:VEVENT
DTSTART;TZID=Europe/Athens:20250516T080000
DTEND;TZID=Europe/Athens:20250518T170000
DTSTAMP:20260419T222619
CREATED:20230607T030419Z
LAST-MODIFIED:20250331T091608Z
UID:10629-1747382400-1747587600@jaguarclub.gr
SUMMARY:Mountain Tour
DESCRIPTION:Το Jaguar Club of Greece με αυτή την περιήγηση στα Τρίκαλα Κορινθίας οργανώνει ένα πλούσιο αλλά και ταυτόχρονα χαλαρωτικό long weekend στο βουνό σε ένα πολυτελές συγκρότημα 5* με SPA.  \nΤην Παρασκευή  θα επισκεφτούμε το Αρχαιολογικό Μουσείο και το αμφιθέατρο Αρχαίας Σικυώνος.  Έπειτα θα δοκιμάσουμε τοπικές συνταγές σε μια παραδοσιακή ταβέρνα και\, λιγότερο από 5 χιλιόμετρα μετά\, θα ξεκουραστούμε σε πανέμορφα chalets. \nΤο απόγευμα relax στην εσωτερική θερμαινόμενη πισίνα του ξενοδοχείου και θεραπείες στο SPA. Για το βράδυ έχουμε κανονίσει ένα ειδικό μενού μόνο για εμάς στο εστιατόριο. \nΤο Σάββατο\, αργά το πρωί\, θα κάνουμε το γύρο της Λίμνης Δόξα και θα σταματήσουμε σε μια τοπική Ταβέρνα για να τσιμπήσουμε λιχουδιές. Άλλο χαλαρό απόγευμα αφιερωμένο στο relax\, massage & pool. Στις 7μμ οι gentlemen drivers θα βρεθούν σε μία prive’ αίθουσα για ένα happy hour seminar και έπειτα θα συναντήσουν τις Ladies στο εστιατόριο για ένα άλλο σχεδιασμένο dinner μενού μόνο για εμάς. \nΤην Κυριακή\, αργά στις 12\,00 θα ξεκινήσουμε για να εξερευνήσουμε την άλλη πλευρά της Ζήριας μέχρι το Λαλιότι όπου θα  απολαύσουμε ένα εκλεκτό γεύμα και θα  επιστρέψουμε χαρούμενοι στην Αθήνα \n  \n    \n  \n  \nΚλείστε από τώρα αυτή την αξέχαστη διημερη εμπειρία που αξίζει να ζήσουμε
URL:https://jaguarclub.gr/event/mountain-tour/
END:VEVENT
END:VCALENDAR